BEGIN:VCALENDAR
VERSION:2.0
PRODID:spatie/icalendar-generator
DESCRIPTION:Events from Fulton County Hazard Mitigation Plan Update
X-WR-CALDESC:Events from Fulton County Hazard Mitigation Plan Update
REFRESH-INTERVAL;VALUE=DURATION:PT1440M
X-PUBLISHED-TTL:PT1440M
BEGIN:VTIMEZONE
TZID:Etc/GMT+0
BEGIN:STANDARD
DTSTART:20201004T133000Z
TZOFFSETFROM:+0000
TZOFFSETTO:+0000
END:STANDARD
END:VTIMEZONE
BEGIN:VTIMEZONE
TZID:UTC
BEGIN:STANDARD
DTSTART:20250725T101551Z
TZOFFSETFROM:+0000
TZOFFSETTO:+0000
END:STANDARD
END:VTIMEZONE
BEGIN:VEVENT
UID:29-25
DTSTAMP:20260421T101551Z
SUMMARY:Pike County HMP Planning Team Meeting #1
LOCATION:
ORGANIZER;CN=Heather:MAILTO:Heather.Apgar@tetratech.com
DTSTART;TZID=Etc/GMT+0:20210701T133000
DTEND;TZID=Etc/GMT+0:20210701T143000
X-ALT-DESC;FMTTYPE=TEXT/HTML:Pike County HMP Planning Team Kick-Off Phone n
 umber (toll charges may apply if calling in): 646-751-8477 Conference ID: 
 183 352 622# Join online
CATEGORIES:General
URL;VALUE=URI:https://www.fultoncountypahmp.com/mc-events/pike-county-hmp-p
 lanning-team-meeting-1/
METHOD:PUBLISH
END:VEVENT
END:VCALENDAR